BEGIN:VCALENDAR
VERSION:2.0
PRODID:-//SVP Oberhasli //NONSGML Events //EN
CALSCALE:GREGORIAN
X-WR-CALNAME:SVP Oberhasli
BEGIN:VEVENT
CREATED:20260211T121150Z
UID:1165
DTEND:20260313T230000
DTSTART:20260313T193000
DTSTAMP:20260422T094155Z
LOCATION:Kirchgemeinde Haus
DESCRIPTION:
SUMMARY:Podium Grossratswahlen
ORGANIZER:EDU\, FDP\, Die Grünen\, SP\, SVP
URL;VALUE=URI:https://www.svpoberhasli.ch/termine/podium-grossratswahlen/
TRANSP:OPAQUE
END:VEVENT
END:VCALENDAR
